BEGIN:VCALENDAR
VERSION:2.0
PRODID:-//ConVerve GmbH//B2BMatch//EN
METHOD:PUBLISH
BEGIN:VEVENT
DTSTART:20240310T150000Z
DTEND:20240314T010000Z
SUMMARY:MULTIHOUSING Purchasers Forum
LOCATION:Terranea Resort
DESCRIPTION:
UID:0000001
DTSTAMP:20180215T135139Z
END:VEVENT
END:VCALENDAR
